BEGIN:VCALENDAR
VERSION:2.0
PRODID:-//ReMuNet Project - ECPv6.15.20//NONSGML v1.0//EN
CALSCALE:GREGORIAN
METHOD:PUBLISH
X-WR-CALNAME:ReMuNet Project
X-ORIGINAL-URL:https://remunet-project.eu
X-WR-CALDESC:Events for ReMuNet Project
REFRESH-INTERVAL;VALUE=DURATION:PT1H
X-Robots-Tag:noindex
X-PUBLISHED-TTL:PT1H
BEGIN:VTIMEZONE
TZID:UTC
BEGIN:STANDARD
TZOFFSETFROM:+0000
TZOFFSETTO:+0000
TZNAME:UTC
DTSTART:20220101T000000
END:STANDARD
END:VTIMEZONE
BEGIN:VEVENT
DTSTART;VALUE=DATE:20230906
DTEND;VALUE=DATE:20230908
DTSTAMP:20260423T053501
CREATED:20231027T075136Z
LAST-MODIFIED:20240129T130143Z
UID:1302-1693958400-1694131199@remunet-project.eu
SUMMARY:ReMuNet's Kick off meeting in Aachen\, 6-7 September 2023
DESCRIPTION:The Kick-off meeting for the ReMuNet Project\, held on the 6th and 7th of September in Aachen\, was a success! The first day of our gathering was marked by the introduction of ReMuNet’s Dissemination & Communication Plan to all consortium members\, who provided valuable feedback. \nFIR an der RWTH Aachen organized every aspect of the meeting flawlessly\, allowing partners to engage in three distin \nct focus groups but also to foster a sense of teamwork among all attendees. In addition to the productive discussions\, we had the privilege of touring FIR’s Demonstration Factory\, a remarkable hub of innovation where cutting-edge concepts blend seamlessly with a real production environment. Collaborating closely with our industry partners\, we are paving the way for the transparent and adaptive production of the future\, contributing to a more sustainable world. \nWith great anticipation\, we look forward to our next steps in the ReMuNet \nProject\, as we strive to make a significant impact on European freight transportation.
URL:https://remunet-project.eu/project-event/soft-kick-of-meeting-we-are-excited-to-inform-you-that-our-remunet-project-has-officially-begun/
LOCATION:FIR an der RWTH\, Germany
CATEGORIES:Project Events
ATTACH;FMTTYPE=image/png:https://remunet-project.eu/wp-content/uploads/2023/10/ReMuNet-12.png
END:VEVENT
END:VCALENDAR