BEGIN:VCALENDAR
VERSION:2.0
PRODID:-//ReMuNet Project - ECPv6.15.20//NONSGML v1.0//EN
CALSCALE:GREGORIAN
METHOD:PUBLISH
X-WR-CALNAME:ReMuNet Project
X-ORIGINAL-URL:https://remunet-project.eu
X-WR-CALDESC:Events for ReMuNet Project
REFRESH-INTERVAL;VALUE=DURATION:PT1H
X-Robots-Tag:noindex
X-PUBLISHED-TTL:PT1H
BEGIN:VTIMEZONE
TZID:UTC
BEGIN:STANDARD
TZOFFSETFROM:+0000
TZOFFSETTO:+0000
TZNAME:UTC
DTSTART:20230101T000000
END:STANDARD
END:VTIMEZONE
BEGIN:VEVENT
DTSTART;TZID=UTC:20241022T100000
DTEND;TZID=UTC:20241022T234500
DTSTAMP:20260422T200715
CREATED:20241022T142605Z
LAST-MODIFIED:20241022T142605Z
UID:1848-1729591200-1729640700@remunet-project.eu
SUMMARY:Webinar on Greening Initiatives in Ports and Hinterland Terminals
DESCRIPTION:This engaging webinar showcases the best environmental practices implemented by ports and terminals across Europe. Part of the Baltic Sea Region Interreg-funded Blue Supply Chain project\, the session highlights sustainable strategies aimed at mitigating climate change and improving the environmental performance of the freight sector. \nWebinar Agenda: \n\n10:00 – 10:05: Welcome and Introduction to the BSC Project\nSpeaker: Vivin Sudhakar\, Project Manager\, SGKV\n10:05 – 10:20: Introduction to the Report on Greening Measures for Ports and Hinterland Terminals\nSpeaker: Rémi Penet\, Junior Project Officer\, UIRR\n10:20 – 10:35: Green Strategies and Initiatives\nSpeaker: Stefan Breitenbach\, Head of Project Department\, Port of Hamburg\n10:35 – 10:50: Green Strategies and Initiatives\nSpeaker: Mario Franzone\, Planning and Development Department\, Ports of Genoa\n10:50 – 11:00: Q&A Session\n11:00 – 11:15: Green Strategies and Initiatives\nSpeakers: Onofrio Mendozza\, Verona Terminal Manager\, Terminali Italia; Marco Vetrella\, Head of Legal Affairs and Personnel (tbc)\, Terminali Italia\n11:15 – 11:30: Green Strategies and Initiatives\nSpeaker: Anna Kristiane Schmidt\, Sustainable Solutions Management\, Contargo\n11:30 – 11:40: Q&A Session\n11:40 – 11:45: Wrap-up of Discussions and Next Steps in the New EU Political Landscape\nSpeaker: Eric Feyen\, Technical Director\, UIRR\n\nFor more information about the Blue Supply Chain project\, click here.
URL:https://remunet-project.eu/project-event/webinar-on-greening-initiatives-in-ports-and-hinterland-terminals/
LOCATION:Online
CATEGORIES:Other Events
ATTACH;FMTTYPE=image/jpeg:https://remunet-project.eu/wp-content/uploads/2024/10/download-6.jpeg
END:VEVENT
END:VCALENDAR