BEGIN:VCALENDAR
VERSION:2.0
PRODID:-//ReMuNet Project - ECPv6.15.20//NONSGML v1.0//EN
CALSCALE:GREGORIAN
METHOD:PUBLISH
X-ORIGINAL-URL:https://remunet-project.eu
X-WR-CALDESC:Events for ReMuNet Project
REFRESH-INTERVAL;VALUE=DURATION:PT1H
X-Robots-Tag:noindex
X-PUBLISHED-TTL:PT1H
BEGIN:VTIMEZONE
TZID:UTC
BEGIN:STANDARD
TZOFFSETFROM:+0000
TZOFFSETTO:+0000
TZNAME:UTC
DTSTART:20240101T000000
END:STANDARD
END:VTIMEZONE
BEGIN:VEVENT
DTSTART;TZID=UTC:20250602T080000
DTEND;TZID=UTC:20250805T170000
DTSTAMP:20260424T000306
CREATED:20250131T072531Z
LAST-MODIFIED:20250131T075028Z
UID:1957-1748851200-1754413200@remunet-project.eu
SUMMARY:Transport Logistic 2025
DESCRIPTION:From 2–5 June 2025\, Munich will host Transport Logistic 2025\, the world’s leading trade fair for logistics\, mobility\, IT\, and supply chain management. Spanning 150\,000 square metres across 12 halls\, this event brings together industry leaders\, innovators\, and decision-makers to showcase cutting-edge technologies\, explore groundbreaking trends\, and foster meaningful business connections. \nThis year’s event promises: \n\nA dynamic conference program featuring 56 sessions with expert speakers.\nThe Campus Plaza\, spotlighting collaboration between established companies and startups.\nExpanded participation from the air cargo Europe community\, occupying two dedicated halls.\nJoint stands highlighting national and international innovations.\nA focus on young innovators and startups shaping the future of logistics.\n\nTransport Logistic 2025 is a must-attend for anyone looking to stay ahead in the logistics and supply chain industry. Secure your ticket today and join the global conversation on driving sustainability\, innovation\, and efficiency in logistics.
URL:https://remunet-project.eu/project-event/transport-logistic-2025/
LOCATION:Hall A3\, Booth 400\, Munich\, Germany
CATEGORIES:Other Events
ATTACH;FMTTYPE=image/jpeg:https://remunet-project.eu/wp-content/uploads/2025/01/421941187_816875667136244_730084772638164648_n.jpg
END:VEVENT
BEGIN:VEVENT
DTSTART;VALUE=DATE:20250720
DTEND;VALUE=DATE:20250721
DTSTAMP:20260424T000306
CREATED:20250320T163512Z
LAST-MODIFIED:20250320T163512Z
UID:2041-1752969600-1753055999@remunet-project.eu
SUMMARY:1st Workshop on Distributed Computing Systems for Smart Logistics (DCSSL)
DESCRIPTION:We are pleased to share that our synergy project\, TRACE\, is organising the 1st Workshop on Distributed Computing Systems for Smart Logistics (DCSSL). The workshop will take place as part of the 45th IEEE International Conference on Distributed Computing Systems (ICDCS 2025) from 20–23 July 2025 in Glasgow\, Scotland. \nAbout the Workshop \nThe DCSSL workshop provides a unique platform to explore advancements in distributed computing systems and their applications in the rapidly evolving domain of smart logistics. With TRACE’s focus on innovative solutions for synchro-modal logistics\, we believe this event aligns perfectly with your Project’s mission and research focus. \nWhy Participate? \nThis is an excellent opportunity to: \n\nShowcase your project’s contributions to the field of smart logistics.\nExchange ideas and collaborate with experts\, researchers\, and practitioners from across the globe.\nHighlight your innovative applications in areas such as AI\, IoT\, blockchain\, real-time data processing\, and more.\n\nSubmission deadline: 28 March 2025 \nFor more details\, visit: DCSSL Workshop
URL:https://remunet-project.eu/project-event/1st-workshop-on-distributed-computing-systems-for-smart-logistics-dcssl/
CATEGORIES:Other Events
ATTACH;FMTTYPE=image/png:https://remunet-project.eu/wp-content/uploads/2025/03/Screenshot-2025-03-20-173348.png
END:VEVENT
END:VCALENDAR