BEGIN:VCALENDAR
VERSION:2.0
PRODID:-//ReMuNet Project - ECPv6.15.20//NONSGML v1.0//EN
CALSCALE:GREGORIAN
METHOD:PUBLISH
X-ORIGINAL-URL:https://remunet-project.eu
X-WR-CALDESC:Events for ReMuNet Project
REFRESH-INTERVAL;VALUE=DURATION:PT1H
X-Robots-Tag:noindex
X-PUBLISHED-TTL:PT1H
BEGIN:VTIMEZONE
TZID:UTC
BEGIN:STANDARD
TZOFFSETFROM:+0000
TZOFFSETTO:+0000
TZNAME:UTC
DTSTART:20250101T000000
END:STANDARD
END:VTIMEZONE
BEGIN:VEVENT
DTSTART;TZID=UTC:20260520T133000
DTEND;TZID=UTC:20260520T173000
DTSTAMP:20260423T102006
CREATED:20260413T103340Z
LAST-MODIFIED:20260421T094711Z
UID:2197-1779283800-1779298200@remunet-project.eu
SUMMARY:Towards Resilient and Intelligent Multimodal Transport Networks – ReMuNet and SARIL Final Event
DESCRIPTION:The ReMuNet and SARIL projects will hold their final event as part of TRA 2026 in Budapest\, Hungary\, on 20 May 2026\, from 13:00 to 17:30\, at the Congress Center\, ground floor\, E 1 room\, to bring together researchers\, industry leaders\, policymakers\, and logistics operators in order to showcase the latest advances in resilient\, adaptive\, and intelligent multimodal freight transport. \nReMuNet and SARIL work closely together as they address the same challenge from complementary angles: building more resilient and sustainable logistics networks. While SARIL focuses on understanding disruptions\, defining resilience indicators\, and developing strategic insights through stakeholder engagement and simulation\, ReMuNet translates these insights into real-time operational solutions for multimodal transport. Together\, they bridge the gap between analysis and application\, combining strategic knowledge with practical tools to support a more adaptive\, efficient\, and sustainable European freight system. \nREGISTER HERE. \nPreliminary Agenda \nThis event is an excellent opportunity to explore how digital innovation and AI are transforming European freight transport\, and to engage with key stakeholders shaping a more resilient\, efficient\, and sustainable logistics network.
URL:https://remunet-project.eu/project-event/towards-resilient-and-intelligent-multimodal-transport-networks-remunet-and-saril-final-event/
LOCATION:Hungexpo Budapest Congress and Exhibition Centre\, Albertirsai út 10\, Budapest\, 1101\, Belgium
CATEGORIES:Project Events
ATTACH;FMTTYPE=image/png:https://remunet-project.eu/wp-content/uploads/2026/04/ReMuNet-2026-04-20T114940.832.png
ORGANIZER;CN="ReMuNet & SARIL":MAILTO:m.kontogianni@white-research.eu
END:VEVENT
END:VCALENDAR